BEGIN:VCALENDAR
VERSION:2.0
PRODID:-//CPNC - ECPv6.15.18//NONSGML v1.0//EN
CALSCALE:GREGORIAN
METHOD:PUBLISH
X-ORIGINAL-URL:https://www.connellspointnetball.com.au
X-WR-CALDESC:Events for CPNC
REFRESH-INTERVAL;VALUE=DURATION:PT1H
X-Robots-Tag:noindex
X-PUBLISHED-TTL:PT1H
BEGIN:VTIMEZONE
TZID:UTC
BEGIN:STANDARD
TZOFFSETFROM:+0000
TZOFFSETTO:+0000
TZNAME:UTC
DTSTART:20220101T000000
END:STANDARD
END:VTIMEZONE
BEGIN:VEVENT
DTSTART;TZID=UTC:20240503T080000
DTEND;TZID=UTC:20240503T170000
DTSTAMP:20260423T083205
CREATED:20240108T012554Z
LAST-MODIFIED:20240108T012554Z
UID:4138-1714723200-1714755600@www.connellspointnetball.com.au
SUMMARY:Day 3 - 8/9 Players
DESCRIPTION:Day 3 – 8/9 Players
URL:https://www.connellspointnetball.com.au/event/day-3-8-9-players/
LOCATION:NSW
END:VEVENT
BEGIN:VEVENT
DTSTART;TZID=UTC:20240413T080000
DTEND;TZID=UTC:20240413T170000
DTSTAMP:20260423T083205
CREATED:20240108T012433Z
LAST-MODIFIED:20240108T012433Z
UID:4136-1712995200-1713027600@www.connellspointnetball.com.au
SUMMARY:Day 2 - All other players
DESCRIPTION:Day 2 – All other players
URL:https://www.connellspointnetball.com.au/event/day-2-all-other-players/
LOCATION:NSW
END:VEVENT
BEGIN:VEVENT
DTSTART;TZID=UTC:20240412T080000
DTEND;TZID=UTC:20240412T170000
DTSTAMP:20260423T083205
CREATED:20240108T012350Z
LAST-MODIFIED:20240108T012350Z
UID:4134-1712908800-1712941200@www.connellspointnetball.com.au
SUMMARY:Day 2 - 8/9 Players
DESCRIPTION:Day 2 – 8/9 Players
URL:https://www.connellspointnetball.com.au/event/day-2-8-9-players/
LOCATION:NSW
END:VEVENT
BEGIN:VEVENT
DTSTART;TZID=UTC:20240406T080000
DTEND;TZID=UTC:20240406T170000
DTSTAMP:20260423T083205
CREATED:20240108T012253Z
LAST-MODIFIED:20240108T012253Z
UID:4132-1712390400-1712422800@www.connellspointnetball.com.au
SUMMARY:Day 1 - All other players
DESCRIPTION:Day 1 – All other players
URL:https://www.connellspointnetball.com.au/event/day-1-all-other-players/
LOCATION:NSW
END:VEVENT
BEGIN:VEVENT
DTSTART;TZID=UTC:20240405T080000
DTEND;TZID=UTC:20240405T170000
DTSTAMP:20260423T083205
CREATED:20240108T012159Z
LAST-MODIFIED:20240108T012159Z
UID:4130-1712304000-1712336400@www.connellspointnetball.com.au
SUMMARY:Day 1 - 8/9
DESCRIPTION:Day 1 – 8/9 Players
URL:https://www.connellspointnetball.com.au/event/day-1-8-9/
LOCATION:NSW
END:VEVENT
BEGIN:VEVENT
DTSTART;TZID=UTC:20240309T080000
DTEND;TZID=UTC:20240309T170000
DTSTAMP:20260423T083205
CREATED:20240108T011307Z
LAST-MODIFIED:20240108T011307Z
UID:4128-1709971200-1710003600@www.connellspointnetball.com.au
SUMMARY:Practical Grading - All Junior Players
DESCRIPTION:Practical Grading for all Junior Players – MUST Attend
URL:https://www.connellspointnetball.com.au/event/practical-grading-all-junior-players/
LOCATION:NSW
END:VEVENT
BEGIN:VEVENT
DTSTART;TZID=UTC:20240304T080000
DTEND;TZID=UTC:20240304T170000
DTSTAMP:20260423T083205
CREATED:20240108T012639Z
LAST-MODIFIED:20240108T012639Z
UID:4140-1709539200-1709571600@www.connellspointnetball.com.au
SUMMARY:Day 3 - All other players
DESCRIPTION:Day 3 – All other players
URL:https://www.connellspointnetball.com.au/event/day-3-all-other-players/
LOCATION:NSW
END:VEVENT
BEGIN:VEVENT
DTSTART;TZID=UTC:20240301T080000
DTEND;TZID=UTC:20240301T170000
DTSTAMP:20260423T083205
CREATED:20240108T011200Z
LAST-MODIFIED:20240108T011200Z
UID:4126-1709280000-1709312400@www.connellspointnetball.com.au
SUMMARY:CP Registration with SSNA
DESCRIPTION:CP Registration with SSNA
URL:https://www.connellspointnetball.com.au/event/cp-registration-with-ssna/
LOCATION:NSW
END:VEVENT
BEGIN:VEVENT
DTSTART;TZID=UTC:20240217T080000
DTEND;TZID=UTC:20240217T170000
DTSTAMP:20260423T083205
CREATED:20240108T010430Z
LAST-MODIFIED:20240108T010500Z
UID:4124-1708156800-1708189200@www.connellspointnetball.com.au
SUMMARY:Grading - All Junior Players
DESCRIPTION:Grading for all Junior players at Bellingarra
URL:https://www.connellspointnetball.com.au/event/grading-all-junior-players/
LOCATION:Bellingara Road\, Bellingara Road\, Sylvania\, 2224\, Australia
END:VEVENT
BEGIN:VEVENT
DTSTART;TZID=UTC:20240202T173000
DTEND;TZID=UTC:20240202T183000
DTSTAMP:20260423T083205
CREATED:20240108T014028Z
LAST-MODIFIED:20240130T222630Z
UID:4152-1706895000-1706898600@www.connellspointnetball.com.au
SUMMARY:Warm Up Sessions - 9 - 10 year old Players
DESCRIPTION:Warm Up Sessions – 9 – 10 year old Players (9 year olds if you wish to play in the 10’s on Saturday morning)
URL:https://www.connellspointnetball.com.au/event/warm-up-sessions-9-10-year-old-players/
LOCATION:Poulton Park\, Rickard Road and Morshead Drive\, HURSTVILLE GROVE\, NSW\, 2220\, Australia
END:VEVENT
BEGIN:VEVENT
DTSTART;TZID=UTC:20240201T183000
DTEND;TZID=UTC:20240201T200000
DTSTAMP:20260423T083205
CREATED:20240108T013828Z
LAST-MODIFIED:20240130T045635Z
UID:4148-1706812200-1706817600@www.connellspointnetball.com.au
SUMMARY:Warm Up Sessions - 7 - 9 year old Players
DESCRIPTION:Warm Up Sessions – 7 – 9 year old Players (players can come and try) \n 
URL:https://www.connellspointnetball.com.au/event/warm-up-sessions-7-9-year-old-players/
LOCATION:NSW
END:VEVENT
BEGIN:VEVENT
DTSTART;TZID=UTC:20240201T173000
DTEND;TZID=UTC:20240201T183000
DTSTAMP:20260423T083205
CREATED:20240108T013916Z
LAST-MODIFIED:20240130T222655Z
UID:4150-1706808600-1706812200@www.connellspointnetball.com.au
SUMMARY:Warm Up Sessions - 5 - 7 year old Players
DESCRIPTION:Warm Up Sessions – 5 – 7 year old Players ( players can come and try)
URL:https://www.connellspointnetball.com.au/event/warm-up-sessions-5-7-year-old-players/
LOCATION:Poulton Park\, Rickard Road and Morshead Drive\, HURSTVILLE GROVE\, NSW\, 2220\, Australia
END:VEVENT
BEGIN:VEVENT
DTSTART;TZID=UTC:20240131T173000
DTEND;TZID=UTC:20240131T183000
DTSTAMP:20260423T083205
CREATED:20240108T013718Z
LAST-MODIFIED:20240130T222735Z
UID:4146-1706722200-1706725800@www.connellspointnetball.com.au
SUMMARY:Warm Up Sessions - 11 & 12 year old Players
DESCRIPTION:Warm Up Sessions – 11 & 12 year old Players
URL:https://www.connellspointnetball.com.au/event/warm-up-sessions-11-12-year-old-players/
LOCATION:Poulton Park\, Rickard Road and Morshead Drive\, HURSTVILLE GROVE\, NSW\, 2220\, Australia
END:VEVENT
BEGIN:VEVENT
DTSTART;TZID=UTC:20240130T173000
DTEND;TZID=UTC:20240130T183000
DTSTAMP:20260423T083205
CREATED:20240108T013635Z
LAST-MODIFIED:20240130T222802Z
UID:4144-1706635800-1706639400@www.connellspointnetball.com.au
SUMMARY:Warm Up Sessions - 15\, 16 & 17 year old Players
DESCRIPTION:Warm Up Sessions – 15\, 16 & 17 year old Players
URL:https://www.connellspointnetball.com.au/event/warm-up-sessions-15-16-17-year-old-players/
LOCATION:Poulton Park\, Rickard Road and Morshead Drive\, HURSTVILLE GROVE\, NSW\, 2220\, Australia
END:VEVENT
BEGIN:VEVENT
DTSTART;TZID=UTC:20240130T173000
DTEND;TZID=UTC:20240130T183000
DTSTAMP:20260423T083205
CREATED:20240108T010315Z
LAST-MODIFIED:20240108T010315Z
UID:4122-1706635800-1706639400@www.connellspointnetball.com.au
SUMMARY:Kit Bags - Returns
DESCRIPTION:Kit Bag returns at Poulton Park \n530pm
URL:https://www.connellspointnetball.com.au/event/kit-bags-returns/
LOCATION:Poulton Park\, Rickard Road and Morshead Drive\, HURSTVILLE GROVE\, NSW\, 2220\, Australia
END:VEVENT
BEGIN:VEVENT
DTSTART;TZID=UTC:20240129T173000
DTEND;TZID=UTC:20240129T183000
DTSTAMP:20260423T083205
CREATED:20240108T013542Z
LAST-MODIFIED:20240130T222929Z
UID:4142-1706549400-1706553000@www.connellspointnetball.com.au
SUMMARY:Warm Up Sessions - 13 & 14 year old Players
DESCRIPTION:Warm Up Sessions – 13 & 14 year old Players
URL:https://www.connellspointnetball.com.au/event/warm-up-sessions-13-14-year-old-players/
LOCATION:Poulton Park\, Rickard Road and Morshead Drive\, HURSTVILLE GROVE\, NSW\, 2220\, Australia
END:VEVENT
BEGIN:VEVENT
DTSTART;TZID=UTC:20240105T090000
DTEND;TZID=UTC:20240105T170000
DTSTAMP:20260423T083205
CREATED:20240108T010137Z
LAST-MODIFIED:20240108T010137Z
UID:4120-1704445200-1704474000@www.connellspointnetball.com.au
SUMMARY:Registration 2024 Opens
DESCRIPTION:Registration 2024 Opens \n9am – Online \n(Link to be provided soon)
URL:https://www.connellspointnetball.com.au/event/registration-2024-opens/
LOCATION:NSW
END:VEVENT
BEGIN:VEVENT
DTSTART;TZID=UTC:20230917T080000
DTEND;TZID=UTC:20230917T170000
DTSTAMP:20260423T083205
CREATED:20230731T011319Z
LAST-MODIFIED:20230731T011319Z
UID:4109-1694937600-1694970000@www.connellspointnetball.com.au
SUMMARY:Presentation Day
DESCRIPTION:Club Central Hurstville
URL:https://www.connellspointnetball.com.au/event/presentation-day/
LOCATION:Club Central – Hurstville\, 2 Crofts Avenue\,\, Hurstville\, NSW\, 2220\, Australia
END:VEVENT
BEGIN:VEVENT
DTSTART;TZID=UTC:20230902T080000
DTEND;TZID=UTC:20230902T170000
DTSTAMP:20260423T083205
CREATED:20230731T011040Z
LAST-MODIFIED:20230731T011040Z
UID:4107-1693641600-1693674000@www.connellspointnetball.com.au
SUMMARY:Grand Final
DESCRIPTION:Bellingara Road
URL:https://www.connellspointnetball.com.au/event/grand-final/
LOCATION:Bellingara Road\, Bellingara Road\, Sylvania\, 2224\, Australia
END:VEVENT
BEGIN:VEVENT
DTSTART;TZID=UTC:20230826T080000
DTEND;TZID=UTC:20230826T170000
DTSTAMP:20260423T083205
CREATED:20230731T010956Z
LAST-MODIFIED:20230731T010956Z
UID:4105-1693036800-1693069200@www.connellspointnetball.com.au
SUMMARY:Finals
DESCRIPTION:Bellingara Road
URL:https://www.connellspointnetball.com.au/event/finals/
LOCATION:Bellingara Road\, Bellingara Road\, Sylvania\, 2224\, Australia
END:VEVENT
BEGIN:VEVENT
DTSTART;TZID=UTC:20230820T080000
DTEND;TZID=UTC:20230820T170000
DTSTAMP:20260423T083205
CREATED:20230731T010910Z
LAST-MODIFIED:20230731T010910Z
UID:4103-1692518400-1692550800@www.connellspointnetball.com.au
SUMMARY:Seniors Semi-Finals
DESCRIPTION:Seymour Shaw
URL:https://www.connellspointnetball.com.au/event/seniors-semi-finals/
LOCATION:Seymour Shaw\, 244 The Boulevarde\, Miranda\, NSW\, 2228\, Australia
END:VEVENT
BEGIN:VEVENT
DTSTART;TZID=UTC:20230819T080000
DTEND;TZID=UTC:20230819T170000
DTSTAMP:20260423T083205
CREATED:20230731T011406Z
LAST-MODIFIED:20230731T011406Z
UID:4112-1692432000-1692464400@www.connellspointnetball.com.au
SUMMARY:Modified (Last Game)
DESCRIPTION:Seymour Shaw
URL:https://www.connellspointnetball.com.au/event/modified-last-game/
LOCATION:Seymour Shaw\, 244 The Boulevarde\, Miranda\, NSW\, 2228\, Australia
END:VEVENT
BEGIN:VEVENT
DTSTART;TZID=UTC:20230819T080000
DTEND;TZID=UTC:20230819T170000
DTSTAMP:20260423T083205
CREATED:20230731T010821Z
LAST-MODIFIED:20230731T010821Z
UID:4101-1692432000-1692464400@www.connellspointnetball.com.au
SUMMARY:Junior Semi-Finals
DESCRIPTION:Bellingara Road
URL:https://www.connellspointnetball.com.au/event/junior-semi-finals/
LOCATION:Bellingara Road\, Bellingara Road\, Sylvania\, 2224\, Australia
END:VEVENT
BEGIN:VEVENT
DTSTART;TZID=UTC:20230812T080000
DTEND;TZID=UTC:20230812T170000
DTSTAMP:20260423T083205
CREATED:20230501T012204Z
LAST-MODIFIED:20230501T012204Z
UID:4051-1691827200-1691859600@www.connellspointnetball.com.au
SUMMARY:Day 14 (Game Day - Net Games 5 ~ 7 & 8 ~ 9)
DESCRIPTION:Seymour Shaw Park
URL:https://www.connellspointnetball.com.au/event/day-14-game-day-net-games-5-7-8-9/
LOCATION:Seymour Shaw\, 244 The Boulevarde\, Miranda\, NSW\, 2228\, Australia
END:VEVENT
BEGIN:VEVENT
DTSTART;TZID=UTC:20230812T080000
DTEND;TZID=UTC:20230812T170000
DTSTAMP:20260423T083205
CREATED:20230501T012034Z
LAST-MODIFIED:20230501T012114Z
UID:4049-1691827200-1691859600@www.connellspointnetball.com.au
SUMMARY:Day 14 (Game Day - 10 ~ Seniors)
DESCRIPTION:Bellingara Rd\,
URL:https://www.connellspointnetball.com.au/event/day-14-game-day-10-seniors/
LOCATION:Bellingara Road\, Bellingara Road\, Sylvania\, 2224\, Australia
END:VEVENT
BEGIN:VEVENT
DTSTART;TZID=UTC:20230805T080000
DTEND;TZID=UTC:20230805T170000
DTSTAMP:20260423T083205
CREATED:20230206T050045Z
LAST-MODIFIED:20230501T011918Z
UID:3983-1691222400-1691254800@www.connellspointnetball.com.au
SUMMARY:Day 13 (Game Day - Net Games 5 ~ 7 & 8 ~ 9)
DESCRIPTION:Seymour Shaw Park
URL:https://www.connellspointnetball.com.au/event/day-131-game-day-net-games-5-7-8-9/
LOCATION:Seymour Shaw\, 244 The Boulevarde\, Miranda\, NSW\, 2228\, Australia
END:VEVENT
BEGIN:VEVENT
DTSTART;TZID=UTC:20230805T080000
DTEND;TZID=UTC:20230805T170000
DTSTAMP:20260423T083205
CREATED:20230206T050002Z
LAST-MODIFIED:20230501T011908Z
UID:3981-1691222400-1691254800@www.connellspointnetball.com.au
SUMMARY:Day 13 (Game Day - 10 ~ Seniors)
DESCRIPTION:Bellingara Rd\,
URL:https://www.connellspointnetball.com.au/event/day-131-game-day-10-seniors/
LOCATION:Bellingara Road\, Bellingara Road\, Sylvania\, 2224\, Australia
END:VEVENT
BEGIN:VEVENT
DTSTART;TZID=UTC:20230729T080000
DTEND;TZID=UTC:20230729T170000
DTSTAMP:20260423T083205
CREATED:20230206T045920Z
LAST-MODIFIED:20230501T011859Z
UID:3979-1690617600-1690650000@www.connellspointnetball.com.au
SUMMARY:Day 12 (Game Day - Net Games 5 ~ 7 & 8 ~ 9)
DESCRIPTION:Seymour Shaw Park
URL:https://www.connellspointnetball.com.au/event/day-121-game-day-net-games-5-7-8-9/
LOCATION:Seymour Shaw\, 244 The Boulevarde\, Miranda\, NSW\, 2228\, Australia
END:VEVENT
BEGIN:VEVENT
DTSTART;TZID=UTC:20230729T080000
DTEND;TZID=UTC:20230729T170000
DTSTAMP:20260423T083205
CREATED:20230206T045836Z
LAST-MODIFIED:20230501T011849Z
UID:3977-1690617600-1690650000@www.connellspointnetball.com.au
SUMMARY:Day 12 (Game Day - 10 ~ Seniors)
DESCRIPTION:Bellingara Rd\,
URL:https://www.connellspointnetball.com.au/event/day-121-game-day-10-seniors/
LOCATION:Bellingara Road\, Bellingara Road\, Sylvania\, 2224\, Australia
END:VEVENT
BEGIN:VEVENT
DTSTART;TZID=UTC:20230722T080000
DTEND;TZID=UTC:20230722T170000
DTSTAMP:20260423T083205
CREATED:20230206T045749Z
LAST-MODIFIED:20230501T011839Z
UID:3975-1690012800-1690045200@www.connellspointnetball.com.au
SUMMARY:Day 11 (Game Day - Net Games 5 ~ 7 & 8 ~ 9)
DESCRIPTION:Seymour Shaw Park
URL:https://www.connellspointnetball.com.au/event/day-111-game-day-net-games-5-7-8-9/
LOCATION:Seymour Shaw\, 244 The Boulevarde\, Miranda\, NSW\, 2228\, Australia
END:VEVENT
END:VCALENDAR