BEGIN:VCALENDAR
VERSION:2.0
PRODID:-//CPNC - ECPv6.15.18//NONSGML v1.0//EN
CALSCALE:GREGORIAN
METHOD:PUBLISH
X-WR-CALNAME:CPNC
X-ORIGINAL-URL:https://www.connellspointnetball.com.au
X-WR-CALDESC:Events for CPNC
REFRESH-INTERVAL;VALUE=DURATION:PT1H
X-Robots-Tag:noindex
X-PUBLISHED-TTL:PT1H
BEGIN:VTIMEZONE
TZID:UTC
BEGIN:STANDARD
TZOFFSETFROM:+0000
TZOFFSETTO:+0000
TZNAME:UTC
DTSTART:20220101T000000
END:STANDARD
END:VTIMEZONE
BEGIN:VEVENT
DTSTART;TZID=UTC:20230812T080000
DTEND;TZID=UTC:20230812T170000
DTSTAMP:20260423T115550
CREATED:20230501T012034Z
LAST-MODIFIED:20230501T012114Z
UID:4049-1691827200-1691859600@www.connellspointnetball.com.au
SUMMARY:Day 14 (Game Day - 10 ~ Seniors)
DESCRIPTION:Bellingara Rd\,
URL:https://www.connellspointnetball.com.au/event/day-14-game-day-10-seniors/
LOCATION:Bellingara Road\, Bellingara Road\, Sylvania\, 2224\, Australia
END:VEVENT
BEGIN:VEVENT
DTSTART;TZID=UTC:20230805T080000
DTEND;TZID=UTC:20230805T170000
DTSTAMP:20260423T115550
CREATED:20230206T050045Z
LAST-MODIFIED:20230501T011918Z
UID:3983-1691222400-1691254800@www.connellspointnetball.com.au
SUMMARY:Day 13 (Game Day - Net Games 5 ~ 7 & 8 ~ 9)
DESCRIPTION:Seymour Shaw Park
URL:https://www.connellspointnetball.com.au/event/day-131-game-day-net-games-5-7-8-9/
LOCATION:Seymour Shaw\, 244 The Boulevarde\, Miranda\, NSW\, 2228\, Australia
END:VEVENT
BEGIN:VEVENT
DTSTART;TZID=UTC:20230805T080000
DTEND;TZID=UTC:20230805T170000
DTSTAMP:20260423T115550
CREATED:20230206T050002Z
LAST-MODIFIED:20230501T011908Z
UID:3981-1691222400-1691254800@www.connellspointnetball.com.au
SUMMARY:Day 13 (Game Day - 10 ~ Seniors)
DESCRIPTION:Bellingara Rd\,
URL:https://www.connellspointnetball.com.au/event/day-131-game-day-10-seniors/
LOCATION:Bellingara Road\, Bellingara Road\, Sylvania\, 2224\, Australia
END:VEVENT
BEGIN:VEVENT
DTSTART;TZID=UTC:20230729T080000
DTEND;TZID=UTC:20230729T170000
DTSTAMP:20260423T115550
CREATED:20230206T045920Z
LAST-MODIFIED:20230501T011859Z
UID:3979-1690617600-1690650000@www.connellspointnetball.com.au
SUMMARY:Day 12 (Game Day - Net Games 5 ~ 7 & 8 ~ 9)
DESCRIPTION:Seymour Shaw Park
URL:https://www.connellspointnetball.com.au/event/day-121-game-day-net-games-5-7-8-9/
LOCATION:Seymour Shaw\, 244 The Boulevarde\, Miranda\, NSW\, 2228\, Australia
END:VEVENT
BEGIN:VEVENT
DTSTART;TZID=UTC:20230729T080000
DTEND;TZID=UTC:20230729T170000
DTSTAMP:20260423T115550
CREATED:20230206T045836Z
LAST-MODIFIED:20230501T011849Z
UID:3977-1690617600-1690650000@www.connellspointnetball.com.au
SUMMARY:Day 12 (Game Day - 10 ~ Seniors)
DESCRIPTION:Bellingara Rd\,
URL:https://www.connellspointnetball.com.au/event/day-121-game-day-10-seniors/
LOCATION:Bellingara Road\, Bellingara Road\, Sylvania\, 2224\, Australia
END:VEVENT
BEGIN:VEVENT
DTSTART;TZID=UTC:20230722T080000
DTEND;TZID=UTC:20230722T170000
DTSTAMP:20260423T115550
CREATED:20230206T045749Z
LAST-MODIFIED:20230501T011839Z
UID:3975-1690012800-1690045200@www.connellspointnetball.com.au
SUMMARY:Day 11 (Game Day - Net Games 5 ~ 7 & 8 ~ 9)
DESCRIPTION:Seymour Shaw Park
URL:https://www.connellspointnetball.com.au/event/day-111-game-day-net-games-5-7-8-9/
LOCATION:Seymour Shaw\, 244 The Boulevarde\, Miranda\, NSW\, 2228\, Australia
END:VEVENT
BEGIN:VEVENT
DTSTART;TZID=UTC:20230722T080000
DTEND;TZID=UTC:20230722T170000
DTSTAMP:20260423T115550
CREATED:20230206T045656Z
LAST-MODIFIED:20230501T011830Z
UID:3973-1690012800-1690045200@www.connellspointnetball.com.au
SUMMARY:Day 11 (Game Day - 10 ~ Seniors)
DESCRIPTION:Bellingara Rd\,
URL:https://www.connellspointnetball.com.au/event/day-111-game-day-10-seniors/
LOCATION:Bellingara Road\, Bellingara Road\, Sylvania\, 2224\, Australia
END:VEVENT
BEGIN:VEVENT
DTSTART;TZID=UTC:20230715T080000
DTEND;TZID=UTC:20230715T170000
DTSTAMP:20260423T115550
CREATED:20230206T045609Z
LAST-MODIFIED:20230501T011820Z
UID:3971-1689408000-1689440400@www.connellspointnetball.com.au
SUMMARY:Day 10 (Game Day - Net Games 5 ~ 7 & 8 ~ 9)
DESCRIPTION:Seymour Shaw Park
URL:https://www.connellspointnetball.com.au/event/day-101-game-day-net-games-5-7-8-9/
LOCATION:Seymour Shaw\, 244 The Boulevarde\, Miranda\, NSW\, 2228\, Australia
END:VEVENT
BEGIN:VEVENT
DTSTART;TZID=UTC:20230715T080000
DTEND;TZID=UTC:20230715T170000
DTSTAMP:20260423T115550
CREATED:20230206T045521Z
LAST-MODIFIED:20230501T011811Z
UID:3969-1689408000-1689440400@www.connellspointnetball.com.au
SUMMARY:Day 10 (Game Day - 10 ~ Seniors)
DESCRIPTION:Bellingara Rd\,
URL:https://www.connellspointnetball.com.au/event/day-101-game-day-10-seniors/
LOCATION:Bellingara Road\, Bellingara Road\, Sylvania\, 2224\, Australia
END:VEVENT
BEGIN:VEVENT
DTSTART;TZID=UTC:20230624T080000
DTEND;TZID=UTC:20230624T170000
DTSTAMP:20260423T115550
CREATED:20230206T045401Z
LAST-MODIFIED:20230501T011754Z
UID:3967-1687593600-1687626000@www.connellspointnetball.com.au
SUMMARY:Day 9 (Game Day - Net Games 5 ~ 7 & 8 ~ 9)
DESCRIPTION:Seymour Shaw Park
URL:https://www.connellspointnetball.com.au/event/day-91-game-day-net-games-5-7-8-9/
LOCATION:Seymour Shaw\, 244 The Boulevarde\, Miranda\, NSW\, 2228\, Australia
END:VEVENT
BEGIN:VEVENT
DTSTART;TZID=UTC:20230624T080000
DTEND;TZID=UTC:20230624T170000
DTSTAMP:20260423T115550
CREATED:20230206T045318Z
LAST-MODIFIED:20230501T011742Z
UID:3965-1687593600-1687626000@www.connellspointnetball.com.au
SUMMARY:Day 9 (Game Day - 10 ~ Seniors)
DESCRIPTION:Bellingara Rd\,
URL:https://www.connellspointnetball.com.au/event/day-91-game-day-10-seniors/
LOCATION:Bellingara Road\, Bellingara Road\, Sylvania\, 2224\, Australia
END:VEVENT
BEGIN:VEVENT
DTSTART;TZID=UTC:20230617T080000
DTEND;TZID=UTC:20230617T170000
DTSTAMP:20260423T115550
CREATED:20230206T045216Z
LAST-MODIFIED:20230501T011729Z
UID:3962-1686988800-1687021200@www.connellspointnetball.com.au
SUMMARY:Day 8 (Game Day - Net Games 5 ~ 7 & 8 ~ 9)
DESCRIPTION:Seymour Shaw Park
URL:https://www.connellspointnetball.com.au/event/day-81-game-day-net-games-5-7-8-9/
LOCATION:Seymour Shaw\, 244 The Boulevarde\, Miranda\, NSW\, 2228\, Australia
END:VEVENT
BEGIN:VEVENT
DTSTART;TZID=UTC:20230617T080000
DTEND;TZID=UTC:20230617T170000
DTSTAMP:20260423T115550
CREATED:20230206T045134Z
LAST-MODIFIED:20230501T011719Z
UID:3960-1686988800-1687021200@www.connellspointnetball.com.au
SUMMARY:Day 8 (Game Day - 10 ~ Seniors)
DESCRIPTION:Bellingara Rd\,
URL:https://www.connellspointnetball.com.au/event/day-81-game-day-10-seniors/
LOCATION:Bellingara Road\, Bellingara Road\, Sylvania\, 2224\, Australia
END:VEVENT
BEGIN:VEVENT
DTSTART;TZID=UTC:20230603T080000
DTEND;TZID=UTC:20230603T170000
DTSTAMP:20260423T115550
CREATED:20230206T044904Z
LAST-MODIFIED:20230501T011707Z
UID:3951-1685779200-1685811600@www.connellspointnetball.com.au
SUMMARY:Day 7 (Game Day - Net Games 5 ~ 7 & 8 ~ 9)
DESCRIPTION:Seymour Shaw Park
URL:https://www.connellspointnetball.com.au/event/day-71-game-day-net-games-5-7-8-9/
LOCATION:Seymour Shaw\, 244 The Boulevarde\, Miranda\, NSW\, 2228\, Australia
END:VEVENT
BEGIN:VEVENT
DTSTART;TZID=UTC:20230603T080000
DTEND;TZID=UTC:20230603T170000
DTSTAMP:20260423T115550
CREATED:20230206T044808Z
LAST-MODIFIED:20230501T011659Z
UID:3949-1685779200-1685811600@www.connellspointnetball.com.au
SUMMARY:Day 7 (Game Day - 10 ~ Seniors)
DESCRIPTION:Bellingara Rd\,
URL:https://www.connellspointnetball.com.au/event/day-71-game-day-10-seniors/
LOCATION:Bellingara Road\, Bellingara Road\, Sylvania\, 2224\, Australia
END:VEVENT
BEGIN:VEVENT
DTSTART;TZID=UTC:20230527T080000
DTEND;TZID=UTC:20230527T170000
DTSTAMP:20260423T115550
CREATED:20230206T044701Z
LAST-MODIFIED:20230501T011644Z
UID:3947-1685174400-1685206800@www.connellspointnetball.com.au
SUMMARY:Day 6 (Game Day - Net Games 5 ~ 7 & 8 ~ 9)
DESCRIPTION:Seymour Shaw Park
URL:https://www.connellspointnetball.com.au/event/day-61-game-day-net-games-5-7-8-9/
LOCATION:Seymour Shaw\, 244 The Boulevarde\, Miranda\, NSW\, 2228\, Australia
END:VEVENT
BEGIN:VEVENT
DTSTART;TZID=UTC:20230527T080000
DTEND;TZID=UTC:20230527T170000
DTSTAMP:20260423T115550
CREATED:20230206T044548Z
LAST-MODIFIED:20230501T011635Z
UID:3945-1685174400-1685206800@www.connellspointnetball.com.au
SUMMARY:Day 6 (Game Day - 10 ~ Seniors)
DESCRIPTION:Bellingara Rd\, \n  \n 
URL:https://www.connellspointnetball.com.au/event/day-61-game-day-10-seniors/
LOCATION:Bellingara Road\, Bellingara Road\, Sylvania\, 2224\, Australia
END:VEVENT
BEGIN:VEVENT
DTSTART;TZID=UTC:20230520T080000
DTEND;TZID=UTC:20230520T170000
DTSTAMP:20260423T115550
CREATED:20230206T044230Z
LAST-MODIFIED:20230501T011625Z
UID:3943-1684569600-1684602000@www.connellspointnetball.com.au
SUMMARY:Day 5 (Game Day - Net Games 5 ~ 7 & 8 ~ 9)
DESCRIPTION:Seymour Shaw Park \n244 The Boulevarde\, Miranda NSW 2228
URL:https://www.connellspointnetball.com.au/event/day-51-game-day-net-games-5-7-8-9/
LOCATION:Seymour Shaw\, 244 The Boulevarde\, Miranda\, NSW\, 2228\, Australia
END:VEVENT
BEGIN:VEVENT
DTSTART;TZID=UTC:20230520T080000
DTEND;TZID=UTC:20230520T170000
DTSTAMP:20260423T115550
CREATED:20230206T044139Z
LAST-MODIFIED:20230501T011615Z
UID:3941-1684569600-1684602000@www.connellspointnetball.com.au
SUMMARY:Day 5 (Game Day - 10 ~ Seniors)
DESCRIPTION:Bellingara Rd
URL:https://www.connellspointnetball.com.au/event/day-51-game-day-10-seniors/
LOCATION:Bellingara Road\, Bellingara Road\, Sylvania\, 2224\, Australia
END:VEVENT
BEGIN:VEVENT
DTSTART;TZID=UTC:20230513T080000
DTEND;TZID=UTC:20230513T170000
DTSTAMP:20260423T115550
CREATED:20230206T044055Z
LAST-MODIFIED:20230501T011604Z
UID:3939-1683964800-1683997200@www.connellspointnetball.com.au
SUMMARY:Day 4 (Game Day - Net Games 5~7 & 8 ~ 9)
DESCRIPTION:Seymour Shaw Park \n244 The Boulevarde\, Miranda NSW 2228
URL:https://www.connellspointnetball.com.au/event/day-41-game-day-net-games-57-8-9/
LOCATION:Seymour Shaw\, 244 The Boulevarde\, Miranda\, NSW\, 2228\, Australia
END:VEVENT
BEGIN:VEVENT
DTSTART;TZID=UTC:20230513T080000
DTEND;TZID=UTC:20230513T170000
DTSTAMP:20260423T115550
CREATED:20230206T043951Z
LAST-MODIFIED:20230501T011553Z
UID:3937-1683964800-1683997200@www.connellspointnetball.com.au
SUMMARY:Day 4 (Game Day - 10 ~ Seniors)
DESCRIPTION:Bellingara Rd
URL:https://www.connellspointnetball.com.au/event/day-41-game-day-10-seniors/
LOCATION:Bellingara Road\, Bellingara Road\, Sylvania\, 2224\, Australia
END:VEVENT
BEGIN:VEVENT
DTSTART;TZID=UTC:20230506T080000
DTEND;TZID=UTC:20230506T170000
DTSTAMP:20260423T115550
CREATED:20230206T043747Z
LAST-MODIFIED:20230206T043856Z
UID:3935-1683360000-1683392400@www.connellspointnetball.com.au
SUMMARY:Net Games (START) - 5 ~ 7 years
DESCRIPTION:Seymour Shaw Park \n244 The Boulevarde\, Miranda NSW 2228
URL:https://www.connellspointnetball.com.au/event/net-games-start-5-7-years/
LOCATION:Seymour Shaw\, 244 The Boulevarde\, Miranda\, NSW\, 2228\, Australia
END:VEVENT
BEGIN:VEVENT
DTSTART;TZID=UTC:20230506T080000
DTEND;TZID=UTC:20230506T170000
DTSTAMP:20260423T115550
CREATED:20230206T043651Z
LAST-MODIFIED:20230501T011443Z
UID:3933-1683360000-1683392400@www.connellspointnetball.com.au
SUMMARY:Day 3 (Game Day - 8 ~ 9)
DESCRIPTION:Seymour Shaw Park \n244 The Boulevarde\, Miranda NSW 2228
URL:https://www.connellspointnetball.com.au/event/day-31-game-day-8-9/
LOCATION:Seymour Shaw\, 244 The Boulevarde\, Miranda\, NSW\, 2228\, Australia
END:VEVENT
BEGIN:VEVENT
DTSTART;TZID=UTC:20230506T080000
DTEND;TZID=UTC:20230506T170000
DTSTAMP:20260423T115550
CREATED:20230206T043605Z
LAST-MODIFIED:20230501T011452Z
UID:3931-1683360000-1683392400@www.connellspointnetball.com.au
SUMMARY:Day 3 (Game Day - 10 ~ Seniors)
DESCRIPTION:Bellingara Rd
URL:https://www.connellspointnetball.com.au/event/day-31-game-day-10-seniors/
LOCATION:Bellingara Road\, Bellingara Road\, Sylvania\, 2224\, Australia
END:VEVENT
BEGIN:VEVENT
DTSTART;TZID=UTC:20230429T080000
DTEND;TZID=UTC:20230429T170000
DTSTAMP:20260423T115550
CREATED:20230206T042530Z
LAST-MODIFIED:20230501T011253Z
UID:3927-1682755200-1682787600@www.connellspointnetball.com.au
SUMMARY:Day 3 (Game Day - 8 ~ 9) - WASHOUT
DESCRIPTION:Seymour Shaw Park \n244 The Boulevarde\, Miranda NSW 2228
URL:https://www.connellspointnetball.com.au/event/day-3-game-day-8-9/
LOCATION:Seymour Shaw\, 244 The Boulevarde\, Miranda\, NSW\, 2228\, Australia
END:VEVENT
BEGIN:VEVENT
DTSTART;TZID=UTC:20230429T080000
DTEND;TZID=UTC:20230429T170000
DTSTAMP:20260423T115550
CREATED:20230206T041702Z
LAST-MODIFIED:20230501T011300Z
UID:3918-1682755200-1682787600@www.connellspointnetball.com.au
SUMMARY:Day 3 (Game Day - 10 ~ Seniors) - WASHOUT
DESCRIPTION:Bellingarra Rd \n{MUST ATTEND}
URL:https://www.connellspointnetball.com.au/event/day-3-game-day/
LOCATION:Bellingara Road\, Bellingara Road\, Sylvania\, 2224\, Australia
END:VEVENT
BEGIN:VEVENT
DTSTART;TZID=UTC:20230401T080000
DTEND;TZID=UTC:20230401T170000
DTSTAMP:20260423T115550
CREATED:20230206T042444Z
LAST-MODIFIED:20230206T042444Z
UID:3925-1680336000-1680368400@www.connellspointnetball.com.au
SUMMARY:Day 2 (Game Day - 8 ~ 9)
DESCRIPTION:Seymour Shaw Park \n244 The Boulevarde\, Miranda NSW 2228
URL:https://www.connellspointnetball.com.au/event/day-2-game-day-8-9/
LOCATION:Seymour Shaw\, 244 The Boulevarde\, Miranda\, NSW\, 2228\, Australia
END:VEVENT
BEGIN:VEVENT
DTSTART;TZID=UTC:20230401T080000
DTEND;TZID=UTC:20230401T170000
DTSTAMP:20260423T115550
CREATED:20230206T041626Z
LAST-MODIFIED:20230206T042556Z
UID:3916-1680336000-1680368400@www.connellspointnetball.com.au
SUMMARY:Day 2 (Game Day - 10 ~ Seniors)
DESCRIPTION:Bellingarra Rd \n{MUST ATTEND}
URL:https://www.connellspointnetball.com.au/event/day-2-game-day/
LOCATION:Bellingara Road\, Bellingara Road\, Sylvania\, 2224\, Australia
END:VEVENT
BEGIN:VEVENT
DTSTART;TZID=UTC:20230325T080000
DTEND;TZID=UTC:20230325T170000
DTSTAMP:20260423T115550
CREATED:20230206T042344Z
LAST-MODIFIED:20230206T042344Z
UID:3923-1679731200-1679763600@www.connellspointnetball.com.au
SUMMARY:Day 1 (Game Day - 8 ~ 9 )
DESCRIPTION:Seymour Shaw Park \n244 The Boulevarde\, Miranda NSW 2228
URL:https://www.connellspointnetball.com.au/event/day-1-game-day-8-9/
LOCATION:Seymour Shaw\, 244 The Boulevarde\, Miranda\, NSW\, 2228\, Australia
END:VEVENT
BEGIN:VEVENT
DTSTART;TZID=UTC:20230325T080000
DTEND;TZID=UTC:20230325T170000
DTSTAMP:20260423T115550
CREATED:20230206T041527Z
LAST-MODIFIED:20230206T042234Z
UID:3914-1679731200-1679763600@www.connellspointnetball.com.au
SUMMARY:Day 1 (Game Day - 10 ~ Seniors)
DESCRIPTION:Bellingarra Rd \n{MUST ATTEND}
URL:https://www.connellspointnetball.com.au/event/day-1-game-day/
LOCATION:Bellingara Road\, Bellingara Road\, Sylvania\, 2224\, Australia
END:VEVENT
END:VCALENDAR